Workbook
Name _1_0011: 'справка №1-БАЛАНС'!$C$10

Sheet справка №1-БАЛАНС
A1: БАЛАНС
A2: Име на отчитащото се предприятие: | E2: "Индустриален капитал-холдинг" АД | F2: ЕИК по БУЛСТАТ | H2: 121619055
A3: Вид на отчета: консолидиран/неконсолидиран: | E3: неконсолидиран | F3: РГ-05- | H3: 61
A4: Отчетен период: | E4: 01.01.2023-31.12.2023 | H4: ( в хил. лв.)
A6: АКТИВИ | B6: Код на реда | C6: Текущ период | D6: Предходен период | E6: СОБСТВЕН КАПИТАЛ, МАЛЦИНСТВЕНО УЧАСТИЕ И ПАСИВИ | F6: Код на реда | G6: Текущ период | H6: Предходен период
A7: а | B7: б | C7: 1 | D7: 2 | E7: а | F7: б | G7: 1 | H7: 2
A8: А. НЕТЕКУЩИ АКТИВИ | E8: А. СОБСТВЕН КАПИТАЛ
A9: I. Имоти, машини, съоръжения и оборудване | E9: I. Основен капитал
A10: 1. Земи (терени ) | B10: 1-0011 | E10: Записан и внесен капитал т.ч.: | F10: 1-0411 | G10: =G11 -> 15865 | H10: =H11 -> 15865
A11: 2. Сгради и конструкции | B11: 1-0012 | E11: обикновенни акции | F11: 1-0411-1 | G11: 15865 | H11: 15865
A12: 3. Машини и оборудване | B12: 1-0013 | E12: привилегировани акции | F12: 1-0411-2
A13: 4. Съоръжения | B13: 1-0014 | E13: Изкупени собствени обикновени акции | F13: 1-0417 | G13: -190 | H13: -190
A14: 5. Транспортни средства | B14: 1-0015 | E14: Изкупени собствени привилегировани акции | F14: 1-0417-1
A15: 6. Стопански инвентар | B15: 1-0017-1 | E15: Невнесен капитал | F15: 1-0416
A16: 7. Разходи за придобиване и ликвидация на дълготрайни материалини активи | B16: 1-0018 | E16: Общо за група І: | F16: 1-0410 | G16: =G10+G13+G14+G15 -> 15675 | H16: =H10+H13+H14+H15 -> 15675
A17: 8. Други | B17: 1-0017 | C17: 29 | D17: 17 | E17: II. Резерви
A18: Общо за група I: | B18: 1-0010 | C18: =SUM(C10:C17) -> 29 | D18: =SUM(D10:D17) -> 17 | E18: 1. Премийни резерви при емитиране на ценни книжа | F18: 1-0421 | G18: 426 | H18: 426
A19: II. Инвестиционни имоти | B19: 1-0041 | E19: 2. Резерв от последващи оценки на активите и пасивите | F19: 1-0422 | G19: -1173 | H19: -1173
A20: III. Биологични активи | B20: 1-0016 | E20: 3. Целеви резерви, в т.ч.: | F20: 1-0423 | G20: =SUM(G21:G23) -> 1587 | H20: =SUM(H21:H23) -> 1587
A21: IV. Нематериални активи | E21: общи резерви | F21: 1-0424 | G21: 1587 | H21: 1587
A22: 1. Права върху собственост | B22: 1-0021 | E22: специализирани резерви | F22: 1-0425
A23: 2. Програмни продукти | B23: 1-0022 | E23: други резерви | F23: 1-0426
A24: 3. Продукти от развойна дейност | B24: 1-0023 | E24: Общо за група II: | F24: 1-0420 | G24: =G18+G19+G20 -> 840 | H24: =H18+H19+H20 -> 840
A25: 4. Други | B25: 1-0024 | E25: III. Финансов резултат
A26: Общо за група IV: | B26: 1-0020 | C26: =SUM(C22:C25) -> 0 | D26: =SUM(D22:D25) -> 0 | E26: 1. Натрупана печалба (загуба) в т.ч.: | F26: 1-0451 | G26: =SUM(G27:G29) -> 9046 | H26: =SUM(H27:H29) -> 7723
E27: неразпределена печалба | F27: 1-0452 | G27: 9056 | H27: 7733
A28: V. Търговска репутация | E28: непокрита загуба | F28: 1-0453 | G28: -10 | H28: -10
A29: 1. Положителна репутация | B29: 1-0051 | E29: еднократен ефект от промени в счетоводната политика | F29: 1-0451-1
A30: 2. Отрицателна репутация | B30: 1-0052 | E30: 2. Текуща печалба | F30: 1-0454 | G30: 3224 | H30: 2651
A31: Общо за група V: | B31: 1-0050 | C31: =C29+C30 -> 0 | D31: =D29+D30 -> 0 | E31: 3. Текуща загуба | F31: 1-0455
A32: VI. Финансови активи | E32: Общо за група III: | F32: 1-0450 | G32: =G26+G30+G31 -> 12270 | H32: =H26+H30+H31 -> 10374
A33: 1. Инвестиции в: | B33: 1-0031 | C33: =SUM(C34:C37) -> 14658 | D33: =SUM(D34:D37) -> 14658
A34: дъщерни предприятия | B34: 1-0032 | C34: ='справка №8'!C16 -> 3795 | D34: =C34 -> 3795
A35: смесени предприятия | B35: 1-0033 | E35: ОБЩО ЗА РАЗДЕЛ "А" (I+II+III): | F35: 1-0400 | G35: =G24+G16+G32 -> 28785 | H35: =H24+H16+H32 -> 26889
A36: асоциирани предприятия | B36: 1-0034 | C36: 10523 | D36: 10523
A37: други предприятия | B37: 1-0035 | C37: 340 | D37: 340
A38: 2. Държани до настъпване на падеж | B38: 1-0042 | C38: =C39+C40+C42 -> 0 | D38: =D39+D40+D42 -> 0 | E38: Б. МАЛЦИНСТВЕНО УЧАСТИЕ | F38: 1-0400-1
A39: държавни ценни книжа | B39: 1-0042-1
A40: облигации, в т.ч.: | B40: 1-0042-2 | E40: В. НЕТЕКУЩИ ПАСИВИ
A41: общински облигации | B41: 1-0042-3 | E41: I. Търговски и други задължения
...

Sheet справка №2-ОТЧЕТ ЗА ДОХОДИТЕ
A1: ОТЧЕТ ЗА ДОХОДИТЕ
A2: Име на отчитащото се предприятие: | B2: ='справка №1-БАЛАНС'!E2 -> "Индустриален капитал-холдинг" АД | F2: ЕИК по БУЛСТАТ | H2: ='справка №1-БАЛАНС'!H2 -> 121619055
A3: Вид на отчета: консолидиран /неконсолидиран | B3: ='справка №1-БАЛАНС'!E3 -> неконсолидиран | F3: РГ-05- | H3: ='справка №1-БАЛАНС'!H3 -> 61
A4: Отчетен период: | B4: ='справка №1-БАЛАНС'!E4 -> 01.01.2023-31.12.2023 | H4: (в хил. лв.)
A5: РАЗХОДИ | B5: Код на реда | C5: Текущ период | D5: Предходен период | E5: ПРИХОДИ | F5: Код на реда | G5: Текущ период | H5: Предходен период
A6: а | B6: б | C6: 1 | D6: 2 | E6: а | F6: б | G6: 1 | H6: 2
A7: А. Разходи за дейността | E7: А. Приходи от дейността
A8: I. Разходи по икономически елементи | E8: I. Нетни приходи от продажби на:
A9: 1. Разходи за материали | B9: 2-1120 | C9: 8 | D9: 9 | E9: 1. Продукция | F9: 2-1551
A10: 2. Разходи за външни услуги | B10: 2-1130 | C10: 222 | D10: 417 | E10: 2. Стоки | F10: 2-1552
A11: 3. Разходи за амортизации | B11: 2-1160 | C11: 11 | D11: 4 | E11: 3. Услуги | F11: 2-1560
A12: 4. Разходи за възнаграждения | B12: 2-1140 | C12: 1319 | D12: 1157 | E12: 4. Други | F12: 2-1556
A13: 5. Разходи за осигуровки | B13: 2-1150 | C13: 112 | D13: 89 | E13: Общо за група I: | F13: 2-1610 | G13: =SUM(G9:G12) -> 0 | H13: =SUM(H9:H12) -> 0
A14: 6. Балансова стойност на продадени активи (без продукция) | B14: 2-1010
A15: 7. Изменение на запасите от продукция и незавършено производство | B15: 2-1030 | E15: II. Приходи от финансирания | F15: 2-1620
A16: 8. Други, в т.ч.: | B16: 2-1170 | C16: 59 | D16: 107 | E16: в т.ч. от правителството | F16: 2-1621
A17: обезценка на активи | B17: 2-1171
A18: провизии | B18: 2-1172 | E18: III. Финансови приходи
A19: Общо за група I: | B19: 2-1100 | C19: =SUM(C9:C15)+C16 -> 1731 | D19: =SUM(D9:D15)+D16 -> 1783 | E19: 1. Приходи от лихви | F19: 2-1710 | G19: 38 | H19: 5
E20: 2. Приходи от дивиденти | F20: 2-1721 | G20: 4631 | H20: 4195
A21: II. Финансови разходи | E21: 3. Положителни разлики от операции с финансови активи и инструменти | F21: 2-1730 | H21: 19
A22: 1. Разходи за лихви | B22: 2-1210 | E22: 4. Положителни разлики от промяна на валутни курсове | F22: 2-1740 | H22: 1
A23: 2. Отрицателни разлики от операции с финансови активи и инструменти | B23: 2-1220 | C23: 6 | D23: 14 | E23: 5. Други | F23: 2-1745 | G23: 297 | H23: 250
A24: 3. Отрицателни разлики от промяна на валутни курсове | B24: 2-1230 | D24: 12 | E24: Общо за група III: | F24: 2-1700 | G24: =SUM(G19:G23) -> 4966 | H24: =SUM(H19:H23) -> 4470
A25: 4. Други | B25: 2-1240 | C25: 5 | D25: 10
A26: Общо за група II: | B26: 2-1200 | C26: =SUM(C22:C25) -> 11 | D26: =SUM(D22:D25) -> 36
A28: Б. Общо разходи за дейността (I + II) | B28: 2-1300 | C28: =C26+C19 -> 1742 | D28: =D26+D19 -> 1819 | E28: Б. Общо приходи от дейността (I + II + III): | F28: 2-1600 | G28: =G13+G15+G24 -> 4966 | H28: =H13+H15+H24 -> 4470
A30: В. Печалба от дейността | B30: 2-1310 | C30: =IF((G28-C28)>0,G28-C28,0) -> 3224 | D30: =IF((H28-D28)>0,H28-D28,0) -> 2651 | E30: В. Загуба от дейността | F30: 2-1810 | G30: =IF((C28-G28)>0,C28-G28,0) -> 0 | H30: =IF((D28-H28)>0,D28-H28,0) -> 0
A31: III. Дял от печалбата на асоциирани и съвместни предприятия | B31: 2-1250-1 | E31: IV. Дял от загубата на асоциирани и съвместни предприятия | F31: 2-1810-1
A32: IV. Извънредни разходи | B32: 2-1250 | E32: V. Извънредни приходи | F32: 2-1750
A33: Г. Общо разходи (Б+ III +IV) | B33: 2-1350 | C33: =C28+C31+C32 -> 1742 | D33: =D28+D31+D32 -> 1819 | E33: Г. Общо приходи (Б + IV + V) | F33: 2-1800 | G33: =G32+G31+G28 -> 4966 | H33: =H32+H31+H28 -> 4470
A34: Д. Печалба преди облагане с данъци | B34: 2-1400 | C34: =IF((G33-C33)>0,G33-C33,0) -> 3224 | D34: =IF((H33-D33)>0,H33-D33,0) -> 2651 | E34: Д. Загуба преди облагане с данъци | F34: 2-1850 | G34: =IF((C33-G33)>0,C33-G33,0) -> 0 | H34: =IF((D33-H33)>0,D33-H33,0) -> 0
A35: V. Разходи за данъци | B35: 2-1450 | C35: =SUM(C36:C38) -> 0 | D35: =SUM(D36:D38) -> 0
A36: 1.Разходи за текущи корпоративни данъци върху печалбата | B36: 2-1451
A37: 2. Разход /(икономия) на отсрочени корпоративни данъци върху печалбата | B37: 2-1452
A38: 3. Други | B38: 2-1453
A39: E. Печалба след облагане с данъци (Д - V) | B39: 2-0454 | C39: =+IF((G33-C33-C35)>0,G33-C33-C35,0) -> 3224 | D39: =+IF((H33-D33-D35)>0,H33-D33-D35,0) -> 2651 | E39: E. Загуба след облагане с данъци (Д + V) | F39: 2-0455 | G39: =IF(G34>0,IF(C35+G34<0,0,C35+G34),IF(C34-C35<0,C35-C34,0)) -> 0 | H39: =IF(H34>0,IF(D35+H34<0,0,D35+H34),IF(D34-D35<0,D35-D34,0)) -> 0
A40: в т.ч. за малцинствено участие | B40: 2-0454-1 | E40: в т.ч. за малцинствено участие | F40: 2-0455-1
A41: Ж. Нетна печалба за периода | B41: 2-0454-2 | C41: =IF(C39-C40>0,C39-C40,0) -> 3224 | D41: =IF(D39-D40>0,D39-D40,0) -> 2651 | E41: Ж. Нетна загуба за периода | F41: 2-0455-2 | G41: =IF(G39-G40>0,G39-G40,0) -> 0 | H41: =IF(H39-H40>0,H39-H40,0) -> 0
A42: Всичко (Г+ V + Е): | B42: 2-1500 | C42: =C33+C35+C39 -> 4966 | D42: =D33+D35+D39 -> 4470 | E42: Всичко (Г + E): | F42: 2-1900 | G42: =G39+G33 -> 4966 | H42: =H39+H33 -> 4470
...

Sheet справка №3-ОПП по прекия метод
A2: ОТЧЕТ ЗА ПАРИЧНИТЕ ПОТОЦИ ПО ПРЕКИЯ МЕТОД
A4: ="Име на отчитащото се предприятие:"&'справка №1-БАЛАНС'!E2 -> Име на отчитащото се предприятие:"Индустриален капитал-холдинг" АД | C4: ЕИК по БУЛСТАТ | D4: ='справка №1-БАЛАНС'!H2 -> 121619055
A5: Вид на отчета: консолидиран /неконсолидиран | B5: ='справка №1-БАЛАНС'!E3 -> неконсолидиран | C5: РГ-05- | D5: ='справка №1-БАЛАНС'!H3 -> 61
A6: Отчетен период: | B6: ='справка №1-БАЛАНС'!E4 -> 01.01.2023-31.12.2023 | D6: (в хил. лв.)
A7: ПАРИЧНИ ПОТОЦИ | B7: Код на реда | C7: Текущ период | D7: Предходен период
A8: а | B8: б | C8: 1 | D8: 2
A9: А. Парични потоци от оперативна дейност
A10: 1. Постъпления от клиенти | B10: 3-2201
A11: 2. Плащания на доставчици | B11: 3-2201-1 | C11: -401 | D11: -506
A12: 3. Плащания/постъпления, свързани с финансови активи, държани с цел търговия | B12: 3-2202
A13: 4. Плащания, свързани с възнаграждения | B13: 3-2203 | C13: -1481 | D13: -1156
A14: 5. Платени /възстановени данъци (без корпоративен данък върху печалбата) | B14: 3-2206
A15: 6. Платени корпоративни данъци върху печалбата | B15: 3-2206-1
A16: 7. Получени лихви | B16: 3-2204
A17: 8. Платени банкови такси и лихви върху краткосрочни заеми за оборотни средства | B17: 3-2204-1
A18: 9. Курсови разлики | B18: 3-2205
A19: 10. Други постъпления /плащания от оперативна дейност | B19: 3-2208
A20: Нетен паричен поток от оперативна дейност (А): | B20: 3-2200 | C20: =SUM(C10:C19) -> -1882 | D20: =SUM(D10:D19) -> -1662
A21: Б. Парични потоци от инвестиционна дейност
A22: 1. Покупка на дълготрайни активи | B22: 3-2301
A23: 2. Постъпления от продажба на дълготрайни активи | B23: 3-2301-1
A24: 3. Предоставени заеми | B24: 3-2302 | C24: -1165
A25: 4. Възстановени (платени) предоставени заеми, в т.ч. по финансов лизинг | B25: 3-2302-1 | C25: 186 | D25: 49
A26: 5. Получени лихви по предоставени заеми | B26: 3-2302-2 | C26: 11 | D26: 6
A27: 6. Покупка на инвестиции | B27: 3-2302-3
A28: 7. Постъпления от продажба на инвестиции | B28: 3-2302-4 | D28: 19
A29: 8. Получени дивиденти от инвестиции | B29: 3-2303 | C29: 5764 | D29: 3665
A30: 9. Курсови разлики | B30: 3-2305
A31: 10. Други постъпления/ плащания от инвестиционна дейност | B31: 3-2306 | D31: -37
A32: Нетен поток от инвестиционна дейност (Б): | B32: 3-2300 | C32: =SUM(C22:C31) -> 4796 | D32: =SUM(D22:D31) -> 3702
A33: В. Парични потоци от финансова дейност
A34: 1. Постъпления от емитиране на ценни книжа | B34: 3-2401
A35: 2. Плащания при обратно придобиване на ценни книжа | B35: 3-2401-1
A36: 3. Постъпления от заеми | B36: 3-2403
A37: 4. Платени заеми | B37: 3-2403-1
A38: 5. Платени задължения по лизингови договори | B38: 3-2405
A39: 6. Платени лихви, такси, комисиони по заеми с инвестиционно предназначение | B39: 3-2404
A40: 7 . Изплатени дивиденти | B40: 3-2404-1 | C40: -897 | D40: -1085
A41: 8. Други постъпления/ плащания от финансова дейност | B41: 3-2407
A42: Нетен паричен поток от финансова дейност (В): | B42: 3-2400 | C42: =SUM(C34:C41) -> -897 | D42: =SUM(D34:D41) -> -1085
...

Sheet справка №4-ОСК
A1: ОТЧЕТ ЗА ИЗМЕНЕНИЯТА В СОБСТВЕНИЯ КАПИТАЛ
A3: Име на отчитащото се предприятие: | B3: ='справка №1-БАЛАНС'!E2 -> "Индустриален капитал-холдинг" АД | K3: ЕИК по БУЛСТАТ | M3: ='справка №1-БАЛАНС'!H2 -> 121619055
A4: Вид на отчета: консолидиран/неконсолидиран | B4: ='справка №1-БАЛАНС'!E3 -> неконсолидиран | K4: РГ-05- | M4: ='справка №1-БАЛАНС'!H3 -> 61
A5: Отчетен период: | B5: ='справка №1-БАЛАНС'!E4 -> 01.01.2023-31.12.2023 | M5: ( в хил. лв.)
D6: Резерви | I6: Натрупани печалби/загуби
A7: ПОКАЗАТЕЛИ | B7: Код на реда | C7: Основен капитал | D7: премии от емисия (премиен резерв) | E7: резерв от последващи оценки | F7: целеви резерви | I7: печалба | J7: загуба | K7: Резерв от преводи | L7: Общо собствен капитал | M7: Малцинствено участие
F8: общи | G8: специали зирани | H8: други
A9: а | C9: 1 | D9: 2 | E9: 3 | F9: 4 | G9: 5 | H9: 6 | I9: 7 | J9: 8 | K9: 9 | L9: 10 | M9: 11
A10: Код на реда - б | C10: 1-0410 | D10: 1-0410 | E10: 1-0422 | F10: 1-0424 | G10: 1-0425 | H10: 1-0426 | I10: 1-0452 | J10: 1-0453 | K10: 4-0426-1 | L10: 1-0400 | M10: 1-0400-1
A11: Салдо в началото на отчетния период | B11: 4-01 | C11: ='справка №1-БАЛАНС'!G16 -> 15675 | D11: ='справка №1-БАЛАНС'!H18 -> 426 | E11: ='справка №1-БАЛАНС'!H19 -> -1173 | F11: ='справка №1-БАЛАНС'!H21 -> 1587 | G11: 0 | H11: 0 | I11: ='справка №1-БАЛАНС'!H27+'справка №1-БАЛАНС'!H30 -> 10384 | J11: -10 | K11: 0 | L11: =SUM(C11:K11) -> 26889 | M11: 0
A12: Промени в началните салда поради: | B12: 4-15 | C12: =C13+C14 -> 0 | D12: =D13+D14 -> 0 | E12: =E13+E14 -> 0 | F12: =F13+F14 -> 0 | G12: =G13+G14 -> 0 | H12: =H13+H14 -> 0 | I12: =I13+I14 -> 0 | J12: =J13+J14 -> 0 | K12: =K13+K14 -> 0 | L12: =SUM(C12:K12) -> 0 | M12: =M13+M14 -> 0
A13: Ефект от промени в счетоводната политика | B13: 4-15-1 | L13: =SUM(C13:K13) -> 0
A14: Фундаментални грешки | B14: 4-15-2 | L14: =SUM(C14:K14) -> 0
A15: Коригирано салдо в началото на отчетния период | B15: 4-01-1 | C15: =C11+C12 -> 15675 | D15: =D11+D12 -> 426 | E15: =E11+E12 -> -1173 | F15: =F11+F12 -> 1587 | G15: =G11+G12 -> 0 | H15: =H11+H12 -> 0 | I15: =I11+I12 -> 10384 | J15: =J11+J12 -> -10 | K15: =K11+K12 -> 0 | L15: =SUM(C15:K15) -> 26889 | M15: =M11+M12 -> 0
A16: Нетна печалба/загуба за периода | B16: 4-05 | I16: ='справка №2-ОТЧЕТ ЗА ДОХОДИТЕ'!C34 -> 3224 | J16: =+'справка №1-БАЛАНС'!G31 -> 0 | L16: =SUM(C16:K16) -> 3224
A17: 1. Разпределение на печалбата за: | B17: 4-06 | D17: =D18+D19 -> 0 | E17: =E18+E19 -> 0 | F17: =F18+F19 -> 0 | G17: =G18+G19 -> 0 | H17: =H18+H19 -> 0 | I17: =I18 -> -1328 | J17: =J18+J19 -> 0 | K17: =K18+K19 -> 0 | L17: =SUM(C17:K17) -> -1328 | M17: =M18+M19 -> 0
A18: дивиденти | B18: 4-07 | I18: -1328 | L18: =SUM(C18:K18) -> -1328
A19: други | B19: 4-07-1 | L19: =SUM(C19:K19) -> 0
A20: 2. Покриване на загуби | B20: 4-08 | L20: =SUM(C20:K20) -> 0
A21: 3. Последващи оценки на дълготрайни материални и нематериални активи, в т.ч. | B21: 4-09 | C21: =C22-C23 -> 0 | D21: =D22-D23 -> 0 | E21: =E22-E23 -> 0 | F21: =F22-F23 -> 0 | G21: =G22-G23 -> 0 | H21: =H22-H23 -> 0 | I21: =I22-I23 -> 0 | J21: =J22-J23 -> 0 | K21: =K22-K23 -> 0 | L21: =SUM(C21:K21) -> 0 | M21: =M22-M23 -> 0
A22: увеличения | B22: 4-10 | L22: =SUM(C22:K22) -> 0
A23: намаления | B23: 4-11 | L23: =SUM(C23:K23) -> 0
A24: 4. Последващи оценки на финансови активи и инструменти, в т.ч. | B24: 4-12 | C24: =C25-C26 -> 0 | D24: =D25-D26 -> 0 | E24: =E25-E26 -> 0 | F24: =F25-F26 -> 0 | G24: =G25-G26 -> 0 | H24: =H25-H26 -> 0 | I24: =I25-I26 -> 0 | J24: =J25-J26 -> 0 | K24: =K25-K26 -> 0 | L24: =SUM(C24:K24) -> 0 | M24: =M25-M26 -> 0
A25: увеличения | B25: 4-13 | L25: =SUM(C25:K25) -> 0
A26: намаления | B26: 4-14 | L26: =SUM(C26:K26) -> 0
A27: 5. Ефект от отсрочени данъци | B27: 4-16-1 | I27: =-'справка №2-ОТЧЕТ ЗА ДОХОДИТЕ'!C37 -> 0 | L27: =SUM(C27:K27) -> 0
A28: 6. Други изменения | B28: 4-16 | L28: =SUM(C28:K28) -> 0
A29: Салдо към края на отчетния период | B29: 4-17 | C29: =C17+C20+C21+C24+C28+C27+C15+C16 -> 15675 | D29: =D17+D20+D21+D24+D28+D27+D15+D16 -> 426 | E29: =E17+E20+E21+E24+E28+E27+E15+E16 -> -1173 | F29: =F17+F20+F21+F24+F28+F27+F15+F16 -> 1587 | G29: =G17+G20+G21+G24+G28+G27+G15+G16 -> 0 | H29: =H17+H20+H21+H24+H28+H27+H15+H16 -> 0 | I29: =I17+I20+I21+I24+I28+I27+I15+I16 -> 12280 | J29: =J17+J20+J21+J24+J28+J27+J15+J16 -> -10 | K29: =K17+K20+K21+K24+K28+K27+K15+K16 -> 0 | L29: =SUM(C29:K29) -> 28785 | M29: =M17+M20+M21+M24+M28+M27+M15+M16 -> 0
A30: 7. Промени от преводи на годишни финансови отчети на предприятия в чужбина | B30: 4-18 | L30: =SUM(C30:K30) -> 0
A31: 8. Промени от преизчисляване на финансови отчети при свръхинфлация | B31: 4-19 | L31: =SUM(C31:K31) -> 0
A32: Собствен капитал към края на отчетния период | B32: 4-20 | C32: =C29+C30+C31 -> 15675 | D32: =D29+D30+D31 -> 426 | E32: =E29+E30+E31 -> -1173 | F32: =F29+F30+F31 -> 1587 | G32: =G29+G30+G31 -> 0 | H32: =H29+H30+H31 -> 0 | I32: =I29+I30+I31 -> 12280 | J32: =J29+J30+J31 -> -10 | K32: =K29+K30+K31 -> 0 | L32: =SUM(C32:K32) -> 28785 | M32: =M29+M30+M31 -> 0
A33: Забележка: На ред "Салдо в началото на отчетния период" се посочва салдото, което е в края на предходната година.
A34: ='справка №1-БАЛАНС'!A95 -> Дата на съставяне: 26.01.2024 | B34: Съставител: | F34: Изп. директор | K34: Изп. директор
C35: / Н. Николов / | G35: / Милко Ангелов / | L35: / Димитър Тановски /
L37: =L32-'справка №1-БАЛАНС'!G35 -> 0

Sheet справка №5
B1: СПРАВКА ЗА НЕТЕКУЩИТЕ АКТИВИ
A2: Име на отчитащото се предприятие: | C2: ='справка №1-БАЛАНС'!E2 -> "Индустриален капитал-холдинг" АД | M2: ЕИК по БУЛСТАТ | O2: ='справка №1-БАЛАНС'!H2 -> 121619055
A3: Отчетен период: | C3: ='справка №1-БАЛАНС'!E4 -> 01.01.2023-31.12.2023 | M3: РГ-05- | O3: ='справка №1-БАЛАНС'!H3 -> 61
R4: (в хил. лв)
A5: ПОКАЗАТЕЛИ | C5: Код на реда | D5: Отчетна стойност на нетекущите активи | H5: Преоценка | J5: Преоценена стойностна (4+5-6) | K5: А м о р т и з а ц и я | O5: Преоценка | Q5: Преоценена амортизация в края на периода (11+12-13) | R5: Балансова стойност за текущия период (7-14)
D6: в началото на периода | E6: на постъпилите през периода | F6: на излезлите през периода | G6: в края на периода (1+2-3) | H6: увеличение | I6: намаление | K6: в началото на периода | L6: начислена през периода | M6: отписана през периода | N6: в края на периода (8+9-10) | O6: увеличение | P6: намаление
A7: a | C7: б | D7: 1 | E7: 2 | F7: 3 | G7: 4 | H7: 5 | I7: 6 | J7: 7 | K7: 8 | L7: 9 | M7: 10 | N7: 11 | O7: 12 | P7: 13 | Q7: 14 | R7: 15
A8: I. | B8: Имоти, машини, съоръжения и оборудване
A9: 1. | B9: Земи (терени) | C9: 5-1001 | G9: =D9+E9-F9 -> 0 | J9: =G9+H9-I9 -> 0 | N9: =K9+L9-M9 -> 0 | Q9: =N9+O9-P9 -> 0 | R9: =J9-Q9 -> 0
A10: 2. | B10: Сгради и конструкции | C10: 5-1002 | G10: =D10+E10-F10 -> 0 | J10: =G10+H10-I10 -> 0 | N10: =K10+L10-M10 -> 0 | Q10: =N10+O10-P10 -> 0 | R10: =J10-Q10 -> 0
A11: 3. | B11: Машини и оборудване | C11: 5-1003 | G11: =D11+E11-F11 -> 0 | J11: =G11+H11-I11 -> 0 | N11: =K11+L11-M11 -> 0 | Q11: =N11+O11-P11 -> 0 | R11: =J11-Q11 -> 0
A12: 4. | B12: Съоръжения | C12: 5-1004 | G12: =D12+E12-F12 -> 0 | J12: =G12+H12-I12 -> 0 | N12: =K12+L12-M12 -> 0 | Q12: =N12+O12-P12 -> 0 | R12: =J12-Q12 -> 0
A13: 5. | B13: Транспортни средства | C13: 5-1005 | G13: =D13+E13-F13 -> 0 | J13: =G13+H13-I13 -> 0 | N13: =K13+L13-M13 -> 0 | Q13: =N13+O13-P13 -> 0 | R13: =J13-Q13 -> 0
A14: 6. | B14: Стопански инвентар | C14: 5-1007-1 | G14: =D14+E14-F14 -> 0 | J14: =G14+H14-I14 -> 0 | N14: =K14+L14-M14 -> 0 | Q14: =N14+O14-P14 -> 0 | R14: =J14-Q14 -> 0
A15: 7. | B15: Р-ди за придобиване и ликвидация на активи по стопански начин | C15: 5-1007-2 | G15: =D15+E15-F15 -> 0 | J15: =G15+H15-I15 -> 0 | N15: =K15+L15-M15 -> 0 | Q15: =N15+O15-P15 -> 0 | R15: =J15-Q15 -> 0
A16: 8. | B16: Други | C16: 5-1007 | D16: 14 | G16: =D16+E16-F16 -> 14 | J16: =G16+H16-I16 -> 14 | K16: 6 | L16: 1 | N16: =K16+L16-M16 -> 7 | Q16: =N16+O16-P16 -> 7 | R16: =J16-Q16 -> 7
B17: Обща сума I: | C17: 5-1015 | D17: =SUM(D9:D16) -> 14 | E17: =SUM(E9:E16) -> 0 | F17: =SUM(F9:F16) -> 0 | G17: =D17+E17-F17 -> 14 | H17: =SUM(H9:H16) -> 0 | I17: =SUM(I9:I16) -> 0 | J17: =G17+H17-I17 -> 14 | K17: =SUM(K9:K16) -> 6 | L17: =SUM(L9:L16) -> 1 | M17: =SUM(M9:M16) -> 0 | N17: =K17+L17-M17 -> 7 | O17: =SUM(O9:O16) -> 0 | P17: =SUM(P9:P16) -> 0 | Q17: =N17+O17-P17 -> 7 | R17: =J17-Q17 -> 7
A18: II. | B18: Инвестиционни имоти | C18: 5-1037 | G18: =D18+E18-F18 -> 0 | J18: =G18+H18-I18 -> 0 | N18: =K18+L18-M18 -> 0 | Q18: =N18+O18-P18 -> 0 | R18: =J18-Q18 -> 0
A19: III. | B19: Биологични активи | C19: 5-1006 | G19: =D19+E19-F19 -> 0 | J19: =G19+H19-I19 -> 0 | N19: =K19+L19-M19 -> 0 | Q19: =N19+O19-P19 -> 0 | R19: =J19-Q19 -> 0
A20: IV. | B20: Нематериални активи | G20: =D20+E20-F20 -> 0 | J20: =G20+H20-I20 -> 0 | N20: =K20+L20-M20 -> 0 | Q20: =N20+O20-P20 -> 0 | R20: =J20-Q20 -> 0
A21: 1. | B21: Права върху собственост | C21: 5-1017 | G21: =D21+E21-F21 -> 0 | J21: =G21+H21-I21 -> 0 | N21: =K21+L21-M21 -> 0 | Q21: =N21+O21-P21 -> 0 | R21: =J21-Q21 -> 0
A22: 2. | B22: Програмни продукти | C22: 5-1018 | D22: 3 | F22: 0 | G22: =D22+E22-F22 -> 3 | J22: =G22+H22-I22 -> 3 | K22: 3 | N22: =K22+L22-M22 -> 3 | Q22: =N22+O22-P22 -> 3 | R22: =J22-Q22 -> 0
A23: 3. | B23: Продукти от развойна дейност | C23: 5-1019 | G23: =D23+E23-F23 -> 0 | J23: =G23+H23-I23 -> 0 | N23: =K23+L23-M23 -> 0 | Q23: =N23+O23-P23 -> 0 | R23: =J23-Q23 -> 0
A24: 4. | B24: Други | C24: 5-1020 | G24: =D24+E24-F24 -> 0 | J24: =G24+H24-I24 -> 0 | N24: =K24+L24-M24 -> 0 | Q24: =N24+O24-P24 -> 0 | R24: =J24-Q24 -> 0
B25: Обща сума IV: | C25: 5-1030 | D25: =SUM(D21:D24) -> 3 | E25: =SUM(E21:E24) -> 0 | F25: =SUM(F21:F24) -> 0 | G25: =D25+E25-F25 -> 3 | H25: =SUM(H21:H24) -> 0 | I25: =SUM(I21:I24) -> 0 | J25: =G25+H25-I25 -> 3 | K25: =SUM(K21:K24) -> 3 | L25: =SUM(L21:L24) -> 0 | M25: =SUM(M21:M24) -> 0 | N25: =K25+L25-M25 -> 3 | O25: =SUM(O21:O24) -> 0 | P25: =SUM(P21:P24) -> 0 | Q25: =N25+O25-P25 -> 3 | R25: =J25-Q25 -> 0
A26: V. | B26: Финансови активи (без дългосрочни вземания)
A27: 1. | B27: Инвестиции в: | C27: 5-1032 | D27: =SUM(D28:D31) -> 14658 | E27: =SUM(E28:E31) -> 0 | F27: =SUM(F28:F31) -> 0 | G27: =D27+E27-F27 -> 14658 | H27: =SUM(H28:H31) -> 0 | I27: =SUM(I28:I31) -> 0 | J27: =G27+H27-I27 -> 14658 | K27: =SUM(K28:K31) -> 0 | L27: =SUM(L28:L31) -> 0 | M27: =SUM(M28:M31) -> 0 | N27: =K27+L27-M27 -> 0 | O27: =SUM(O28:O31) -> 0 | P27: =SUM(P28:P31) -> 0 | Q27: =N27+O27-P27 -> 0 | R27: =J27-Q27 -> 14658
B28: дъщерни предприятия | C28: 5-1033 | D28: ='справка №1-БАЛАНС'!C34 -> 3795 | G28: =D28+E28-F28 -> 3795 | J28: =G28+H28-I28 -> 3795 | N28: =K28+L28-M28 -> 0 | Q28: =N28+O28-P28 -> 0 | R28: =J28-Q28 -> 3795
B29: смесени предприятия | C29: 5-1034 | G29: =D29+E29-F29 -> 0 | J29: =G29+H29-I29 -> 0 | N29: =K29+L29-M29 -> 0 | Q29: =N29+O29-P29 -> 0 | R29: =J29-Q29 -> 0
B30: асоциирани предприятия | C30: 5-1035 | D30: ='справка №1-БАЛАНС'!C36 -> 10523 | G30: =D30+E30-F30 -> 10523 | J30: =G30+H30-I30 -> 10523 | N30: =K30+L30-M30 -> 0 | Q30: =N30+O30-P30 -> 0 | R30: =J30-Q30 -> 10523
B31: други предприятия | C31: 5-1036 | D31: ='справка №1-БАЛАНС'!D37 -> 340 | F31: =D31-G31 -> 0 | G31: ='справка №1-БАЛАНС'!C37 -> 340 | J31: =G31+H31-I31 -> 340 | N31: =K31+L31-M31 -> 0 | Q31: =N31+O31-P31 -> 0 | R31: =J31-Q31 -> 340
A32: 2. | B32: Държани до настъпване на падеж: | C32: 5-1038 | D32: =SUM(D33:D36) -> 0 | E32: =SUM(E33:E36) -> 0 | F32: =SUM(F33:F36) -> 0 | G32: =D32+E32-F32 -> 0 | H32: =SUM(H33:H36) -> 0 | I32: =SUM(I33:I36) -> 0 | J32: =G32+H32-I32 -> 0 | K32: =SUM(K33:K36) -> 0 | L32: =SUM(L33:L36) -> 0 | M32: =SUM(M33:M36) -> 0 | N32: =K32+L32-M32 -> 0 | O32: =SUM(O33:O36) -> 0 | P32: =SUM(P33:P36) -> 0 | Q32: =N32+O32-P32 -> 0 | R32: =J32-Q32 -> 0
B33: държавни ценни книжа | C33: 5-1038-1 | G33: =D33+E33-F33 -> 0 | J33: =G33+H33-I33 -> 0 | N33: =K33+L33-M33 -> 0 | Q33: =N33+O33-P33 -> 0 | R33: =J33-Q33 -> 0
B34: облигации, в т.ч.: | C34: 5-1038-2 | G34: =D34+E34-F34 -> 0 | J34: =G34+H34-I34 -> 0 | N34: =K34+L34-M34 -> 0 | Q34: =N34+O34-P34 -> 0 | R34: =J34-Q34 -> 0
B35: общински облигации | C35: 5-1038-3 | G35: =D35+E35-F35 -> 0 | J35: =G35+H35-I35 -> 0 | N35: =K35+L35-M35 -> 0 | Q35: =N35+O35-P35 -> 0 | R35: =J35-Q35 -> 0
B36: Други инвестиции, държани до настъпване на падеж | C36: 5-1038-4 | G36: =D36+E36-F36 -> 0 | J36: =G36+H36-I36 -> 0 | N36: =K36+L36-M36 -> 0 | Q36: =N36+O36-P36 -> 0 | R36: =J36-Q36 -> 0
A37: 3. | B37: Други | C37: 5-1038-5 | G37: =D37+E37-F37 -> 0 | J37: =G37+H37-I37 -> 0 | N37: =K37+L37-M37 -> 0 | Q37: =N37+O37-P37 -> 0 | R37: =J37-Q37 -> 0
B38: Обща сума V: | C38: 5-1045 | D38: =D27+D32+D37 -> 14658 | E38: =E27+E32+E37 -> 0 | F38: =F27+F32+F37 -> 0 | G38: =D38+E38-F38 -> 14658 | H38: =H27+H32+H37 -> 0 | I38: =I27+I32+I37 -> 0 | J38: =G38+H38-I38 -> 14658 | K38: =K27+K32+K37 -> 0 | L38: =L27+L32+L37 -> 0 | M38: =M27+M32+M37 -> 0 | N38: =K38+L38-M38 -> 0 | O38: =O27+O32+O37 -> 0 | P38: =P27+P32+P37 -> 0 | Q38: =N38+O38-P38 -> 0 | R38: =J38-Q38 -> 14658
A39: VI. | B39: Търговска репутация | C39: 5-1050 | G39: =D39+E39-F39 -> 0 | J39: =G39+H39-I39 -> 0 | N39: =K39+L39-M39 -> 0 | Q39: =N39+O39-P39 -> 0 | R39: =J39-Q39 -> 0
B40: Общ сбор ( I+ II+ III+ IV+V+VI) | C40: 5-1060 | D40: =D17+D18+D19+D25+D38+D39 -> 14675 | E40: =E17+E18+E19+E25+E38+E39 -> 0 | F40: =F17+F18+F19+F25+F38+F39 -> 0 | G40: =G17+G18+G19+G25+G38+G39 -> 14675 | H40: =H17+H18+H19+H25+H38+H39 -> 0 | I40: =I17+I18+I19+I25+I38+I39 -> 0 | J40: =J17+J18+J19+J25+J38+J39 -> 14675 | K40: =K17+K18+K19+K25+K38+K39 -> 9 | ... R40: =R17+R18+R19+R25+R38+R39 -> 14665
...

Sheet справка №6
A1: СПРАВКА ЗА ВЗЕМАНИЯТА, ЗАДЪЛЖЕНИЯТА И ПРОВИЗИИТЕ
A3: Име на отчитащото се предприятие: | B3: ='справка №1-БАЛАНС'!E2 -> "Индустриален капитал-холдинг" АД | D3: ЕИК по БУЛСТАТ | E3: ='справка №1-БАЛАНС'!H2 -> 121619055
A4: Отчетен период: | B4: ='справка №1-БАЛАНС'!E4 -> 01.01.2023-31.12.2023 | D4: РГ-05- | E4: ='справка №1-БАЛАНС'!H3 -> 61
A5: А. ВЗЕМАНИЯ | E5: (в хил.лв)
A6: ПОКАЗАТЕЛИ | B6: Код на реда | C6: Сума на вземанията | D6: Степен на ликвидност
D7: до 1 година | E7: над 1 година
A8: а | B8: б | C8: 1 | D8: 2 | E8: 3
A9: I. Невнесен капитал | B9: 6-2010 | E9: =C9-D9 -> 0
A10: II. Нетекущи търговски и други вземания
A11: 1. Вземания от свързани предприятия, в т.ч.: | B11: 6-2021 | C11: =SUM(C12:C14) -> 965 | D11: =SUM(D12:D14) -> 0 | E11: =SUM(E12:E14) -> 965
A12: - предоставени заеми | B12: 6-2022 | C12: ='справка №1-БАЛАНС'!C46 -> 965 | E12: =C12-D12 -> 965
A13: - продажба на активи и услуги | B13: 6-2241 | E13: =C13-D13 -> 0
A14: - други | B14: 6-2023 | E14: =C14-D14 -> 0
A15: 2. Вземания от предоставени търговски заеми | B15: 6-2024 | E15: =C15-D15 -> 0
A16: 3. Други дългосрочни вземания, в т.ч.: | B16: 6-2026 | C16: =+C17+C18 -> 0 | D16: =+D17+D18 -> 0 | E16: =C16-D16 -> 0
A17: - финансов лизинг | B17: 6-2027 | C17: ='справка №1-БАЛАНС'!C48 -> 0 | E17: =C17-D17 -> 0
A18: - други | B18: 6-2029 | E18: =C18-D18 -> 0
A19: Всичко за II: | B19: 6-2020 | C19: =C11+C15+C16 -> 965 | D19: =D11+D15+D16 -> 0 | E19: =E11+E15+E16 -> 965
A20: III. Данъчни активи | E20: =C20-D20 -> 0
A21: Активи по отсрочени данъци | B21: 6-2030 | C21: ='справка №1-БАЛАНС'!C53 -> 0 | E21: =C21-D21 -> 0
A23: IV. Текущи търговски и други вземания
A24: 1. Вземания от свързани предприятия, в т.ч.: | B24: 6-2031 | C24: =SUM(C25:C27) -> 382 | D24: =SUM(D25:D27) -> 382 | E24: =SUM(E25:E27) -> 0
A25: - предоставени заеми | B25: 6-2032 | C25: 0 | D25: =C25 -> 0 | E25: 0
A26: - от продажби | B26: 6-2033 | E26: =C26-D26 -> 0
A27: - други | B27: 6-2034 | C27: ='справка №1-БАЛАНС'!C66 -> 382 | D27: =C27 -> 382 | E27: =C27-D27 -> 0
A28: 2. Вземания от клиенти и доставчици | B28: 6-2035 | C28: ='справка №1-БАЛАНС'!C67 -> 0 | E28: =C28-D28 -> 0
A29: 3. Вземания от предоставени аванси | B29: 6-2036 | C29: ='справка №1-БАЛАНС'!C68 -> 0 | E29: =C29-D29 -> 0
A30: 4. Вземания от предоставени търговски заеми | B30: 6-2037 | C30: ='справка №1-БАЛАНС'!C69 -> 0 | E30: =C30-D30 -> 0
A31: 5. Съдебни вземания | B31: 6-2039 | C31: ='справка №1-БАЛАНС'!C70 -> 0 | D31: =C31 -> 0 | E31: =C31-D31 -> 0
A32: 6. Присъдени вземания | B32: 6-2040 | E32: =C32-D32 -> 0
A33: 7. Данъци за възстановяване, в т.ч.: | B33: 6-2041 | C33: =SUM(C34:C37) -> 0 | D33: =SUM(D34:D37) -> 0 | E33: =SUM(E34:E37) -> 0
A34: - корпоративни данъци върху печалбата | B34: 6-2043 | E34: =C34-D34 -> 0
A35: - данък върху добавената стойност | B35: 6-2044 | E35: =C35-D35 -> 0
A36: - възстановими данъчни временни разлики | B36: 6-2045 | E36: =C36-D36 -> 0
A37: - други данъци | B37: 6-2046 | E37: =C37-D37 -> 0
A38: 8. Други краткосрочни вземания, в т.ч.: | B38: 6-2047 | C38: =SUM(C39:C42) -> 50 | D38: =SUM(D39:D42) -> 50 | E38: =SUM(E39:E42) -> 0
A39: - по липси и начети | B39: 6-2048 | E39: =C39-D39 -> 0
A40: - от осигурителните организации | B40: 6-2049 | E40: =C40-D40 -> 0
A41: - по рекламации | B41: 6-2050 | E41: =C41-D41 -> 0
A42: - други | B42: 6-2051 | C42: ='справка №1-БАЛАНС'!C73 -> 50 | D42: ='справка №1-БАЛАНС'!C73 -> 50 | E42: =C42-D42 -> 0
...

Sheet справка №7
E2: СПРАВКА
C3: ЗА ЦЕННИТЕ КНИЖА
A4: Име на отчитащото се предприятие: | B4: ='справка №1-БАЛАНС'!E2 -> "Индустриален капитал-холдинг" АД | G4: ЕИК по БУЛСТАТ | I4: ='справка №1-БАЛАНС'!H2 -> 121619055
A5: Отчетен период: | B5: ='справка №1-БАЛАНС'!E4 -> 01.01.2023-31.12.2023 | G5: РГ-05- | I5: ='справка №1-БАЛАНС'!H3 -> 61
I6: ( в хил.)
C7: Вид и брой на ценните книжа | F7: Стойност на ценните книжа
A8: ПОКАЗАТЕЛИ | B8: Код на реда | C8: обикновени | D8: привиле- гировани | E8: конверти- руеми | F8: отчетна стойност | G8: преоценка | I8: преоценена стойност (4+5-6)
G9: увеличение | H9: намаление
A10: а | B10: б | C10: 1 | D10: 2 | E10: 3 | F10: 4 | G10: 5 | H10: 6 | I10: 7
A11: I. Нетекущи финансови активи в ценни книжа
A12: 1. Акции | B12: 7-3031 | C12: =(3593328+3593328+12610+8736750+1516521+58118+2149225+2154120)/1000 -> 21814 | F12: =13017+1798+1483-41-386 -> 15871 | H12: 0 | I12: =F12+G12-H12 -> 15871
A13: 2. Облигации, в т.ч.: | B13: 7-3035 | I13: =F13+G13-H13 -> 0
A14: общински облигации | B14: 7-3035-1 | I14: =F14+G14-H14 -> 0
A15: 3. Държавни ценни книжа | B15: 7-3036 | I15: =F15+G15-H15 -> 0
A16: 4. Други | B16: 7-3039 | I16: =F16+G16-H16 -> 0
A17: Обща сума I: | B17: 7-3040 | C17: =C12+C13+C15+C16 -> 21814 | D17: =D12+D13+D15+D16 -> 0 | E17: =E12+E13+E15+E16 -> 0 | F17: =F12+F13+F15+F16 -> 15871 | G17: =G12+G13+G15+G16 -> 0 | H17: =H12+H13+H15+H16 -> 0 | I17: =F17+G17-H17 -> 15871
A18: II. Текущи финансови активи в ценни книжа
A19: 1. Акции | B19: 7-3001 | C19: 93 | F19: 133 | I19: =F19+G19-H19 -> 133
A20: 2. Изкупени собствени акции | B20: 7-3005 | I20: =F20+G20-H20 -> 0
A21: 3. Облигации | B21: 7-3006 | I21: =F21+G21-H21 -> 0
A22: 4. Изкупени собствени облигации | B22: 7-3007 | I22: =F22+G22-H22 -> 0
A23: 5. Държавни ценни книжа | B23: 7-3008 | I23: =F23+G23-H23 -> 0
A24: 6. Деривативи и други финансови инструменти | B24: 7-3010-1 | I24: =F24+G24-H24 -> 0
A25: 7. Други | B25: 7-3010 | I25: =F25+G25-H25 -> 0
A26: Обща сума II: | B26: 7-3020 | C26: =SUM(C19:C25) -> 93 | D26: =SUM(D19:D25) -> 0 | E26: =SUM(E19:E25) -> 0 | F26: =SUM(F19:F25) -> 133 | G26: =SUM(G19:G25) -> 0 | H26: =SUM(H19:H25) -> 0 | I26: =F26+G26-H26 -> 133
A27: Забележка: Предприятията, които притежават чуждестранни ценни книжа с характер на краткосрочни и дългосрочни инвестиции, съставят отделна справка за всяка страна.
A28: ='справка №1-БАЛАНС'!A95 -> Дата на съставяне: 26.01.2024
A30: Съставител: | D30: Изп. директор | G30: Изп. директор
B31: / Н. Николов / | E31: / Милко Ангелов / | H31: / Димитър Тановски /

Sheet справка №8
A2: 6
A3: за инвестициите в дъщерни, смесени, асоциирани и други предприятия
A5: Име на отчитащото се предприятие: | B5: ='справка №1-БАЛАНС'!E2 -> "Индустриален капитал-холдинг" АД | E5: ЕИК по БУЛСТАТ | F5: ='справка №1-БАЛАНС'!H2 -> 121619055
A6: Отчетен период: | B6: ='справка №1-БАЛАНС'!E4 -> 01.01.2023-31.12.2023 | E6: РГ-05- | F6: ='справка №1-БАЛАНС'!H3 -> 61
F7: (в хил. лв.)
A8: Наименование и седалище на предприятията, в които са инвестициите | B8: Код на реда | C8: Размер на инвестицията | D8: Процент на инвестицията в капитала на другото предприятие | E8: Инвестиция в ценни книжа, приети за търговия на фондова борса | F8: Инвестиция в ценни книжа, неприети за търговия на фондова борса
A9: а | B9: б | C9: 1 | D9: 2 | E9: 3 | F9: 4
A10: А. В СТРАНАТА
A11: I. Инвестиции в дъщерни предприятия
A12: 1. Силома АД (гр. Силистра ) | C12: 3737 | D12: 92.07 | F12: =C12-E12 -> 3737
A13: 2. Руболт АД (гр. Русе ) | C13: =444-386 -> 58 | D13: 50.1 | F13: =C13-E13 -> 58
A14: 3. | F14: =C14-E14 -> 0
A15: 4. | E15: =C15 -> 0 | F15: =C15-E15 -> 0
A16: Обща сума I: | B16: 8-4001 | C16: =SUM(C12:C15) -> 3795 | E16: =SUM(E12:E15) -> 0 | F16: =SUM(F12:F15) -> 3795
A17: II. Инвестиции в смесени предприятия
A18: 1. | F18: =C18-E18 -> 0
A19: 2. | F19: =C19-E19 -> 0
A20: 3. | F20: =C20-E20 -> 0
A21: 4. | F21: =C21-E21 -> 0
A22: Обща сума II: | B22: 8-4006 | C22: =SUM(C18:C21) -> 0 | E22: =SUM(E18:E21) -> 0 | F22: =SUM(F18:F21) -> 0
A23: III. Инвестиции в асоциирани предприятия
A24: 1. ЗАИ АД (гр. Берковица ) | C24: 3231 | D24: 47.22 | F24: =C24-E24 -> 3231
A25: 2. ЕМКА АД (гр. Севлиево ) | C25: 3681 | D25: 33.42 | E25: =C25 -> 3681 | F25: =C25-E25 -> 0
A26: 3. М+С Хидравлик АД (гр. Казанлък ) | C26: 3612 | D26: 22.37 | E26: 3612 | F26: =C26-E26 -> 0 | H26: 7157920 | I26: =D26*H26/100 -> 1601226.7
A27: 4. | F27: =C27-E27 -> 0 | I27: =SUM(I26:I26) -> 1601226.7
A28: Обща сума III: | B28: 84011 | C28: =SUM(C24:C27) -> 10524 | E28: =SUM(E24:E27) -> 7293 | F28: =SUM(F26:F27) -> 0
A29: IV. Инвестиции в други предприятия
A30: 1. Оптела - Лазерни Технологии АД | C30: =29+1483 -> 1512 | D30: 5.77 | E30: 1512 | F30: =C30-E30 -> 0
A31: 2. Фурнир АД | C31: 39 | D31: 14.99 | F31: =C31-E31 -> 39
A32: 3. Балкарс консорциум ООД | C32: 1 | D32: 8.33 | F32: =C32-E32 -> 1
A33: 4 | F33: =C33-E33 -> 0
A34: Обща сума IV: | B34: 8-4016 | C34: =SUM(C30:C33) -> 1552 | E34: =SUM(E30:E33) -> 1512 | F34: =SUM(F30:F33) -> 40
A35: Обща сума за страната (I+II+III+IV): | B35: 8-4025 | C35: =C34+C28+C22+C16 -> 15871 | E35: =E34+E28+E22+E16 -> 8805 | F35: =F34+F28+F22+F16 -> 3835
A36: Б. В ЧУЖБИНА
A37: I. Инвестиции в дъщерни предприятия
A38: 1. | F38: =C38-E38 -> 0
A39: 2. | F39: =C39-E39 -> 0
A40: 3. | F40: =C40-E40 -> 0
A41: 4. | F41: =C41-E41 -> 0
A42: Обща сума I: | B42: 8-4030 | C42: =SUM(C38:C41) -> 0 | E42: =SUM(E38:E41) -> 0 | F42: =SUM(F38:F41) -> 0
...

Sheet Report
B1: Текущ период | C1: Предходен период
A2: БАЛАНС
A3: Собствен капитал | B3: ='справка №1-БАЛАНС'!G35 -> 28785 | C3: ='справка №1-БАЛАНС'!H35 -> 26889
A4: Основен капитал | B4: ='справка №1-БАЛАНС'!G10 -> 15865 | C4: ='справка №1-БАЛАНС'!H10 -> 15865
A5: Финансов резултат | B5: ='справка №1-БАЛАНС'!G30+'справка №1-БАЛАНС'!G31 -> 3224 | C5: ='справка №1-БАЛАНС'!H30+'справка №1-БАЛАНС'!H31 -> 2651
A6: Малцинствено участие
A7: Нетекущи пасиви | B7: ='справка №1-БАЛАНС'!G54 -> 0 | C7: ='справка №1-БАЛАНС'!H54 -> 0
A8: Текущи пасиви | B8: ='справка №1-БАЛАНС'!G78 -> 2441 | C8: ='справка №1-БАЛАНС'!H78 -> 2448
A9: Имоти, машини, съоражения и оборудване | B9: ='справка №1-БАЛАНС'!C18 -> 29 | C9: ='справка №1-БАЛАНС'!D18 -> 17
A10: Инвестиционни имоти | B10: ='справка №1-БАЛАНС'!C19 -> 0 | C10: ='справка №1-БАЛАНС'!D19 -> 0
A11: Нетекущи финансови активи | B11: ='справка №1-БАЛАНС'!C44 -> 14658 | C11: ='справка №1-БАЛАНС'!D44 -> 14658
A12: Нетекущи търговски и други вземания | B12: ='справка №1-БАЛАНС'!C50 -> 965 | C12: ='справка №1-БАЛАНС'!D50 -> 170
A13: Нетекущи вземания от свързани предприятия | B13: ='справка №1-БАЛАНС'!C46 -> 965 | C13: ='справка №1-БАЛАНС'!D46 -> 170
A14: Текущи активи | B14: ='справка №1-БАЛАНС'!C92 -> 15574 | C14: ='справка №1-БАЛАНС'!D92 -> 14492
A15: Материални запаси | B15: ='справка №1-БАЛАНС'!C57 -> 0 | C15: ='справка №1-БАЛАНС'!D57 -> 0
A16: Текущи търговски и други вземания | B16: ='справка №1-БАЛАНС'!C74 -> 432 | C16: ='справка №1-БАЛАНС'!D74 -> 1376
A17: Текущи вземания от свързани предприятия | B17: ='справка №1-БАЛАНС'!C66 -> 382 | C17: ='справка №1-БАЛАНС'!D66 -> 1326
A18: Текущи финансови активи | B18: ='справка №1-БАЛАНС'!C83 -> 114 | C18: ='справка №1-БАЛАНС'!D83 -> 120
A19: Парични средства | B19: ='справка №1-БАЛАНС'!C90 -> 15012 | C19: ='справка №1-БАЛАНС'!D90 -> 12995
A20: Общо активи | B20: ='справка №1-БАЛАНС'!C93 -> 31226 | C20: ='справка №1-БАЛАНС'!D93 -> 29337
A22: ОТЧЕТ ЗА ДОХОДИТЕ
A23: Нетни приходи от продажби | B23: ='справка №2-ОТЧЕТ ЗА ДОХОДИТЕ'!G13 -> 0 | C23: ='справка №2-ОТЧЕТ ЗА ДОХОДИТЕ'!H13 -> 0
A24: Финансови приходи | B24: ='справка №2-ОТЧЕТ ЗА ДОХОДИТЕ'!G24 -> 4966 | C24: ='справка №2-ОТЧЕТ ЗА ДОХОДИТЕ'!H24 -> 4470
A25: Разходи по икономически елементи | B25: ='справка №2-ОТЧЕТ ЗА ДОХОДИТЕ'!C19 -> 1731 | C25: ='справка №2-ОТЧЕТ ЗА ДОХОДИТЕ'!D19 -> 1783
A26: Разходи за материали | B26: ='справка №2-ОТЧЕТ ЗА ДОХОДИТЕ'!C9 -> 8 | C26: ='справка №2-ОТЧЕТ ЗА ДОХОДИТЕ'!D9 -> 9
A27: Разходи за амортизации | B27: ='справка №2-ОТЧЕТ ЗА ДОХОДИТЕ'!C11 -> 11 | C27: ='справка №2-ОТЧЕТ ЗА ДОХОДИТЕ'!D11 -> 4
A28: Финансови разходи | B28: ='справка №2-ОТЧЕТ ЗА ДОХОДИТЕ'!C26 -> 11 | C28: ='справка №2-ОТЧЕТ ЗА ДОХОДИТЕ'!D26 -> 36
A29: Разходи за лихви | B29: ='справка №2-ОТЧЕТ ЗА ДОХОДИТЕ'!C22 -> 0 | C29: ='справка №2-ОТЧЕТ ЗА ДОХОДИТЕ'!D22 -> 0
A30: Печалба/загуба преди облагане с данъци | B30: =IF('справка №2-ОТЧЕТ ЗА ДОХОДИТЕ'!C34>0,'справка №2-ОТЧЕТ ЗА ДОХОДИТЕ'!C34,-'справка №2-ОТЧЕТ ЗА ДОХОДИТЕ'!G34) -> 3224 | C30: =IF('справка №2-ОТЧЕТ ЗА ДОХОДИТЕ'!D34>0,'справка №2-ОТЧЕТ ЗА ДОХОДИТЕ'!D34,-'справка №2-ОТЧЕТ ЗА ДОХОДИТЕ'!H34) -> 2651
A31: Нетна печалба за периода | B31: ='справка №2-ОТЧЕТ ЗА ДОХОДИТЕ'!C41 -> 3224 | C31: ='справка №2-ОТЧЕТ ЗА ДОХОДИТЕ'!D41 -> 2651
A33: ОТЧЕТ ЗА ПАРИЧНИТЕ ПОТОЦИ
A34: Постъпления от клиенти | B34: ='справка №3-ОПП по прекия метод'!C10 -> 0 | C34: ='справка №3-ОПП по прекия метод'!D10 -> 0
A35: Плащания на доставчици | B35: ='справка №3-ОПП по прекия метод'!C11 -> -401 | C35: ='справка №3-ОПП по прекия метод'!D11 -> -506
A36: Нетен паричен поток от оперативна дейност | B36: ='справка №3-ОПП по прекия метод'!C20 -> -1882 | C36: ='справка №3-ОПП по прекия метод'!D20 -> -1662
A37: Постъпления от продажба на инвестиции | B37: ='справка №3-ОПП по прекия метод'!C28 -> 0 | C37: ='справка №3-ОПП по прекия метод'!D28 -> 19
A38: Покупка на инвестиции | B38: ='справка №3-ОПП по прекия метод'!C27 -> 0 | C38: ='справка №3-ОПП по прекия метод'!D27 -> 0
A39: Нетен поток от инвестиционна дейност | B39: ='справка №3-ОПП по прекия метод'!C32 -> 4796 | C39: ='справка №3-ОПП по прекия метод'!D32 -> 3702
A40: Нетен паричен поток от финансова дейност | B40: ='справка №3-ОПП по прекия метод'!C42 -> -897 | C40: ='справка №3-ОПП по прекия метод'!D42 -> -1085
A41: Изменения на паричните средства през периода | B41: ='справка №3-ОПП по прекия метод'!C43 -> 2017 | C41: ='справка №3-ОПП по прекия метод'!D43 -> 955
A43: Общо приходи | B43: ='справка №2-ОТЧЕТ ЗА ДОХОДИТЕ'!G33 -> 4966 | C43: ='справка №2-ОТЧЕТ ЗА ДОХОДИТЕ'!H33 -> 4470
...
